BEGIN:VCALENDAR
VERSION:2.0
PRODID:-//  Jazz Pulsion - ECPv4.6.13//NONSGML v1.0//EN
CALSCALE:GREGORIAN
METHOD:PUBLISH
X-WR-CALNAME:  Jazz Pulsion
X-ORIGINAL-URL:http://jazz-pulsion.com
X-WR-CALDESC:Events for   Jazz Pulsion
BEGIN:VEVENT
DTSTART;TZID=Europe/Paris:20220625T200000
DTEND;TZID=Europe/Paris:20220625T233000
DTSTAMP:20260421T023817
CREATED:20220611T114149Z
LAST-MODIFIED:20220611T114245Z
UID:6162-1656187200-1656199800@jazz-pulsion.com
SUMMARY:Spectacle de fin d'Année - Brest Arena
DESCRIPTION:
URL:http://jazz-pulsion.com/agenda/spectacle-de-fin-dannee-brest-arena/
LOCATION:140\, boulevard Plymouth\, Brest\, 29200\, France
CATEGORIES:Spectacle
ATTACH;FMTTYPE=image/jpeg:http://jazz-pulsion.com/wp-content/uploads/2022/05/Affiche-gala.jpg
END:VEVENT
END:VCALENDAR