BEGIN:VCALENDAR
VERSION:2.0
PRODID:-//  Jazz Pulsion - ECPv4.6.13//NONSGML v1.0//EN
CALSCALE:GREGORIAN
METHOD:PUBLISH
X-WR-CALNAME:  Jazz Pulsion
X-ORIGINAL-URL:http://jazz-pulsion.com
X-WR-CALDESC:Events for   Jazz Pulsion
BEGIN:VEVENT
DTSTART;TZID=Europe/Paris:20170905T180000
DTEND;TZID=Europe/Paris:20170905T200000
DTSTAMP:20260421T103401
CREATED:20170903T183105Z
LAST-MODIFIED:20170903T183105Z
UID:2449-1504634400-1504641600@jazz-pulsion.com
SUMMARY:inscriptions 2017/2018
DESCRIPTION:les inscriptions aux cours de danse seront prises  \nmardi 5 septembre 2017 de 18h/20h alize\nmercredi 6 septembre 18h/19h30 maison de quartier de coataudon\nsamedi 9 sept: 10h/12h et 14h/17h forum des associations de guipavas ALIZE  \na plabennec\nmercredi 6septembre de 14h/15h  \n
URL:http://jazz-pulsion.com/agenda/inscriptions-20172018/
LOCATION:90 rue du Commandant Challe\, Guipavas\, 29490\, France
END:VEVENT
END:VCALENDAR