BEGIN:VCALENDAR
VERSION:2.0
PRODID:-//  Jazz Pulsion - ECPv4.6.13//NONSGML v1.0//EN
CALSCALE:GREGORIAN
METHOD:PUBLISH
X-WR-CALNAME:  Jazz Pulsion
X-ORIGINAL-URL:http://jazz-pulsion.com
X-WR-CALDESC:Events for   Jazz Pulsion
BEGIN:VEVENT
DTSTART;VALUE=DATE:20180209
DTEND;VALUE=DATE:20180212
DTSTAMP:20260421T090756
CREATED:20171025T142313Z
LAST-MODIFIED:20171025T151140Z
UID:2843-1518134400-1518393599@jazz-pulsion.com
SUMMARY:Master Class - Jeffrey Carter
DESCRIPTION:Les 9\, 10 et 11 Février\, nous avons la joie d’accueillir Jeffrey Carter qui nous fera partager sa technique et son expérience chorégraphique. \nCe danseur et chorégraphe international a dansé dans des studios de renom tels que celui de Alvin Ailey à New York et Jazz Montréal au Canada. En 1986\, il a été honoré par le Prix Volimine Choregrapher. Aujourd’hui\, il partage sa passion et sa technique à travers le monde\, et chaque année depuis vingt ans\, il nous offre son expertise lors de stages au sein de notre école. \n\n
URL:http://jazz-pulsion.com/agenda/910-et-11-fevrier-2018-master-class-jeffrey-carter/
CATEGORIES:Master Class
END:VEVENT
END:VCALENDAR