BEGIN:VCALENDAR
VERSION:2.0
PRODID:-//  Jazz Pulsion - ECPv4.6.13//NONSGML v1.0//EN
CALSCALE:GREGORIAN
METHOD:PUBLISH
X-WR-CALNAME:  Jazz Pulsion
X-ORIGINAL-URL:http://jazz-pulsion.com
X-WR-CALDESC:Events for   Jazz Pulsion
BEGIN:VEVENT
DTSTART;VALUE=DATE:20171124
DTEND;VALUE=DATE:20171127
DTSTAMP:20260421T091405
CREATED:20171025T143508Z
LAST-MODIFIED:20171111T192754Z
UID:2846-1511481600-1511740799@jazz-pulsion.com
SUMMARY:Master Class - Mickael Leduc
DESCRIPTION:Venez partager une autre approche du Modern Jazz avec le danseur et chorégraphe Mikael Leduc\nPour plus de détails voir cette page \n
URL:http://jazz-pulsion.com/agenda/25-et-26-novembre-2017-master-class-mickael-leduc/
CATEGORIES:Master Class
END:VEVENT
END:VCALENDAR