BEGIN:VCALENDAR
VERSION:2.0
PRODID:-//  Jazz Pulsion - ECPv4.6.13//NONSGML v1.0//EN
CALSCALE:GREGORIAN
METHOD:PUBLISH
X-WR-CALNAME:  Jazz Pulsion
X-ORIGINAL-URL:http://jazz-pulsion.com
X-WR-CALDESC:Events for   Jazz Pulsion
BEGIN:VEVENT
DTSTART;VALUE=DATE:20180602
DTEND;VALUE=DATE:20180603
DTSTAMP:20260421T042254
CREATED:20171025T150318Z
LAST-MODIFIED:20171025T151129Z
UID:2855-1527897600-1527983999@jazz-pulsion.com
SUMMARY:Gala annuel
DESCRIPTION:Gala au Quartz : 2 juin 2018. \n
URL:http://jazz-pulsion.com/agenda/2-juin-2018-gala-annuel/
CATEGORIES:Spectacle
END:VEVENT
END:VCALENDAR