BEGIN:VCALENDAR
VERSION:2.0
PRODID:-//  Jazz Pulsion - ECPv4.6.13//NONSGML v1.0//EN
CALSCALE:GREGORIAN
METHOD:PUBLISH
X-WR-CALNAME:  Jazz Pulsion
X-ORIGINAL-URL:http://jazz-pulsion.com
X-WR-CALDESC:Events for   Jazz Pulsion
BEGIN:VEVENT
DTSTART;VALUE=DATE:20180415
DTEND;VALUE=DATE:20180416
DTSTAMP:20260421T061057
CREATED:20171025T150201Z
LAST-MODIFIED:20171025T151011Z
UID:2852-1523750400-1523836799@jazz-pulsion.com
SUMMARY:Spectacle - Plabennec
DESCRIPTION:Le dimanche 15 avril à 16h00 à la salle Tanguy Malmanche (complexe du champ de Foire)\, les élèves des cours de Plabennec et de la Compagnie se produiront en spectacle et vous pourrez également découvrir les chorégraphies que les danseuses ont composées au sein d’ateliers de créations personnalisés depuis la rentrée. \n
URL:http://jazz-pulsion.com/agenda/15-avril-2018-spectacle-plabennec/
CATEGORIES:Spectacle
END:VEVENT
END:VCALENDAR